BEGIN:VCALENDAR
PRODID:-//eluceo/ical//2.0/EN
VERSION:2.0
CALSCALE:GREGORIAN
BEGIN:VEVENT
UID:event-97
DTSTAMP:20260419T144038Z
SUMMARY:Hef je glas op het BEEST-terras!
DESCRIPTION:Lieve allemaal\, Na lange tijd is het dan eindelijk zo ver\, de
  eerste fysieke BEEST activiteit kan weer plaatsvinden. Wij vinden het sup
 er leuk om jullie weer in het echt te mogen ontvangen bij hef je glas op h
 et BEEST terras. In deze activiteit hebben we een terras afgehuurd waar me
 nsen zich in groepen van 2 of 4 voor kunnen opgeven. Ook zitten er een paa
 r consumpties bij om er een extra geslaagde middag van te maken. De activi
 teit is 16 juni vanaf 16:00. De inschrijving start 2 juni dus wees er snel
  bij want vol=vol. Liefs\, BEEST
DTSTART:20210616T140000Z
DTEND:20210616T180000Z
END:VEVENT
BEGIN:VTIMEZONE
TZID:UTC
BEGIN:STANDARD
DTSTART:20210616T140000
TZNAME:UTC
TZOFFSETTO:+0000
TZOFFSETFROM:+0000
END:STANDARD
END:VTIMEZONE
END:VCALENDAR
