BEGIN:VCALENDAR
PRODID:-//eluceo/ical//2.0/EN
VERSION:2.0
CALSCALE:GREGORIAN
BEGIN:VEVENT
UID:event-768
DTSTAMP:20260423T054035Z
SUMMARY:Vatontbijt
DESCRIPTION:In de Diesweek beginnen we op woensdag weer met een Vatontbijt 
 om de dag goed op te starten samen! Ook zullen er twee oud-bestuursleden v
 an 20 en 30 jaar terug zijn om te vertellen over hoe de MFVR toen was en h
 oe de onderwijsinspraak was in die tijd. Kom jij ook?
DTSTART:20250409T070000Z
DTEND:20250409T090000Z
END:VEVENT
BEGIN:VTIMEZONE
TZID:UTC
BEGIN:STANDARD
DTSTART:20250409T070000
TZNAME:UTC
TZOFFSETTO:+0000
TZOFFSETFROM:+0000
END:STANDARD
END:VTIMEZONE
END:VCALENDAR
