BEGIN:VCALENDAR
PRODID:-//eluceo/ical//2.0/EN
VERSION:2.0
CALSCALE:GREGORIAN
BEGIN:VEVENT
UID:event-690
DTSTAMP:20260423T135313Z
SUMMARY:JVT-3 Inschrijvingen
DESCRIPTION:Lieve tweedejaars\, Ben jij wel eens kritisch op het onderwijs?
  Zou jij graag in gesprek gaan met docenten om het onderwijs naar een hoge
 r niveau te tillen? Wil jij graag 400 studenten vertegenwoordigen? Na twee
  jaar ervaring met de bachelor heb je vast wel een mening gevormd over het
  onderwijs. Middels de JVT kan jij de mening van jou en je medestudenten v
 ertegenwoordigen. Het werk van de JVT draagt elk jaar bij om het niveau va
 n het onderwijs te verhogen. Docenten horen de input graag en nemen deze o
 ok mee bij het geven en ontwikkelen van het onderwijs. De JVT helpt dus do
 centen\, medestudenten en de studenten van de toekomst. Zo blijft de oplei
 ding Geneeskunde in Rotterdam een topopleiding. Volgend jaar zullen er ver
 schillende nieuwe onderwijsvormen geïntroduceerd worden in het curriculum
 . Een voorbeeld hiervan is het onderwijs op basis van case-based learning.
  Hiervoor is feedback van studenten die zelf het onderwijs volgen belangri
 jker dan ooit voor de opleiding. Zit jij volgend jaar in jaar 3 en ben jij
  op zoek naar een uitdaging? Lijkt het jou leuk om samen met 7 anderen je 
 medestudenten te vertegenwoordigen als JVT-3? Geef jezelf dan op door je h
 ier aan te melden! Je kan je aanmelden tot en met 18 augustus. Stuur ons 
 een berichtje voor meer informatie! Groetjes\, h.t. &amp\; f.t. Commissari
 s onderwijs interne Annabelle Brand &amp\; Róisín Mc Cormack
DTSTART:20240708T123000Z
DTEND:20240920T215959Z
END:VEVENT
BEGIN:VTIMEZONE
TZID:UTC
BEGIN:STANDARD
DTSTART:20240708T123000
TZNAME:UTC
TZOFFSETTO:+0000
TZOFFSETFROM:+0000
END:STANDARD
END:VTIMEZONE
END:VCALENDAR
