BEGIN:VCALENDAR
PRODID:-//eluceo/ical//2.0/EN
VERSION:2.0
CALSCALE:GREGORIAN
BEGIN:VEVENT
UID:event-623
DTSTAMP:20260419T162221Z
SUMMARY:BEEST-feest: Strandfeest
DESCRIPTION:Lieve allemaal\, 21 juni het zover\, HET beste feest wat de MFV
 R rijk is! Het belooft een super leuk feest te worden met leuke muziek\, l
 ekker eten en lekkere drankjes! Het feest vindt plaats bij Beachclub Royal
  in Hoek van Holland (Zeekant 37\, 3151 HW). Het feest begint om 17:00 en 
 zal eindigen om 23.00. De locatie is gemakkelijk te bereiken met het OV. E
 r vertrekt een directe metro richting ‘Hoek van Holland Strand’. Dit d
 uurt ongeveer 35 minuten vanaf dijkzigt. Vanaf hier is het 2 minuutjes lop
 en naar de feestlocatie! De deuren zullen sluiten om 18:00\, dus wees op t
 ijd! Je kan je jas achterlaten in een (gratis) bewaakte garderobe. Voor dr
 ankjes en snacks wordt gewerkt met munten. Deze zijn te verkrijgen op de l
 ocatie zelf. Neem je een identiteitsbewijs mee\, en natuurlijk je goede hu
 meur \;) Scoor nu snel je ticket en laat de zomer beginnen in Hoek van Hol
 land! Liefs\, BEEST ‘23-‘24 :)
DTSTART:20240621T150000Z
DTEND:20240621T210000Z
END:VEVENT
BEGIN:VTIMEZONE
TZID:UTC
BEGIN:STANDARD
DTSTART:20240621T150000
TZNAME:UTC
TZOFFSETTO:+0000
TZOFFSETFROM:+0000
END:STANDARD
END:VTIMEZONE
END:VCALENDAR
