BEGIN:VCALENDAR
PRODID:-//eluceo/ical//2.0/EN
VERSION:2.0
CALSCALE:GREGORIAN
BEGIN:VEVENT
UID:event-598
DTSTAMP:20260424T094618Z
SUMMARY:Co-borrel
DESCRIPTION:Lieve co’s De volgende co-borrel komt er alweer aan! Op vrijd
 ag 5 april gaan we gezellig de week afsluiten bij Belgisch Biercafé Boude
 wijn Iedereen is welkom vanaf 19.30 en voor €5\,50 ben je verzekerd van
  2 drankjes! Trommel je mede-co’s op en koop een kaartje! Tot dan!
DTSTART:20240405T173000Z
DTEND:20240405T210000Z
END:VEVENT
BEGIN:VTIMEZONE
TZID:UTC
BEGIN:STANDARD
DTSTART:20240405T173000
TZNAME:UTC
TZOFFSETTO:+0000
TZOFFSETFROM:+0000
END:STANDARD
END:VTIMEZONE
END:VCALENDAR
