BEGIN:VCALENDAR
PRODID:-//eluceo/ical//2.0/EN
VERSION:2.0
CALSCALE:GREGORIAN
BEGIN:VEVENT
UID:event-58
DTSTAMP:20260419T181018Z
SUMMARY:Afrodance en Hiphop
DESCRIPTION:Lieve sportievelingen\, Je dansmoves moeten deze lockdown natuu
 rlijk wel onderhouden worden zodat bij het eerst volgende feestje jij indr
 uk maakt. De lessen verzorgd door Dance Imprint Danceschool zijn ontzetten
 d leuk en geven een goeie boost aan je humeur! De lessen zijn gratis onlin
 e te volgen dus doe lekker mee en kom dinsdagavond van de bank af! Op 19 j
 anuari is er een les hiphop en op 26 januari Afrodance. Liefs\, De sportco
DTSTART:20210126T180000Z
DTEND:20210126T200000Z
END:VEVENT
BEGIN:VTIMEZONE
TZID:UTC
BEGIN:STANDARD
DTSTART:20210126T180000
TZNAME:UTC
TZOFFSETTO:+0000
TZOFFSETFROM:+0000
END:STANDARD
END:VTIMEZONE
END:VCALENDAR
