BEGIN:VCALENDAR
PRODID:-//eluceo/ical//2.0/EN
VERSION:2.0
CALSCALE:GREGORIAN
BEGIN:VEVENT
UID:event-43
DTSTAMP:20260424T110424Z
SUMMARY:Spinning @Rocycle
DESCRIPTION:Spinning @Rocycle! Lieve sportievelingen\, Gelukkig mogen we we
 er groepslessen volgen van de regering. Nu kunnen we weer onze conditie op
  peil krijgen na al dat thuiszitten. En wat is beter voor je conditie dan 
 spinnen? Hou jij van zweten en sporten op goede muziek dan moet je je zeke
 r aanmelden! Rocycle maakt van sporten een ervaring waar je echt van genie
 t. De muziek speelt een belangrijke rol in de workout waardoor je het best
 e uit jezelf haalt.  Liefs\, Sportcommissie Meld je snel aan want er zijn
  slechts 15 plekken! INFO: Mariniersweg 39-41 Rotterdam30 november &amp\; 
 8 december 19.30-20.15 €10 voor 2 lessen
DTSTART:20201130T183000Z
DTEND:20201208T183000Z
END:VEVENT
BEGIN:VTIMEZONE
TZID:UTC
BEGIN:STANDARD
DTSTART:20201130T183000
TZNAME:UTC
TZOFFSETTO:+0000
TZOFFSETFROM:+0000
END:STANDARD
END:VTIMEZONE
END:VCALENDAR
