BEGIN:VCALENDAR
PRODID:-//eluceo/ical//2.0/EN
VERSION:2.0
CALSCALE:GREGORIAN
BEGIN:VEVENT
UID:event-417
DTSTAMP:20260422T234302Z
SUMMARY:Weekend Weg
DESCRIPTION:Eindelijk is het zo ver\, het allereerste weekendje weg met de 
 MFVR staat voor de deur. Tijdens het weekend zullen we vertoeven in de pra
 chtige Ardennen van ons buurland. Hier zullen we al klimmend en abseilend 
 nieuwe hoogtepunten en spannende dieptepunten bereiken. Heb jij stalen zen
 uwen en een voorliefde voor misdaad? Dan mag je dit weekend niet missen! V
 rijdag 10 februari om 16:00 gaat de kaartverkoop open. Stuur om een plekje
  te bemachtigen een mailtje naar weekendweg@mfvr.nl. Er zijn nog plekken v
 rij! Liefs\, WeWeCo ’22-’23
DTSTART:20230324T110000Z
DTEND:20230326T160000Z
END:VEVENT
BEGIN:VTIMEZONE
TZID:UTC
BEGIN:STANDARD
DTSTART:20230324T110000
TZNAME:UTC
TZOFFSETTO:+0000
TZOFFSETFROM:+0000
END:STANDARD
END:VTIMEZONE
END:VCALENDAR
