BEGIN:VCALENDAR
PRODID:-//eluceo/ical//2.0/EN
VERSION:2.0
CALSCALE:GREGORIAN
BEGIN:VEVENT
UID:event-39
DTSTAMP:20260420T180811Z
SUMMARY:Netwerkborrel
DESCRIPTION:Altijd al een borrel willen drinken met een specialist? Altijd 
 al willen weten wat een specialist zo gaaf vindt aan zijn of haar vak? Of 
 altijd al een persoonlijke vraag aan een arts willen stellen buiten die wi
 tte jas om?  Schuif dan om 20:00 uur aan bij de online Netwerkborrel onde
 r leiding van een moderator\, waar verschillende specialisten bij zullen a
 ansluiten. Onder het genot van een drankje en een borrelhapje (op te halen
  bij ‘t Vat) belooft dit een gezellige en leerzame avond te worden.
DTSTART:20201202T180000Z
DTEND:20201202T210000Z
END:VEVENT
BEGIN:VTIMEZONE
TZID:UTC
BEGIN:STANDARD
DTSTART:20201202T180000
TZNAME:UTC
TZOFFSETTO:+0000
TZOFFSETFROM:+0000
END:STANDARD
END:VTIMEZONE
END:VCALENDAR
