BEGIN:VCALENDAR
PRODID:-//eluceo/ical//2.0/EN
VERSION:2.0
CALSCALE:GREGORIAN
BEGIN:VEVENT
UID:event-366
DTSTAMP:20260420T122518Z
SUMMARY:Pool & Snack
DESCRIPTION:30 november is het zover: de pool &amp\; snack van de JVT! Dit 
 is hét moment om je Jaarvertegenwoordiging te leren kennen en natuurlijk 
 te poolen en te snacken. Om 17:00 zal het spektakel beginnen in Poolcafé 
 Delfshaven! Schrijf je vanaf nu in in drietallen via de website om mee te 
 doen met het toernooi! Je kan je ook als individu aanmelden\, dan stellen 
 wij een team voor je samen! Je kan je aanmelden tot en met 25 november.
DTSTART:20221130T160000Z
DTEND:20221130T180000Z
LOCATION:Poolcafé Delfshaven
END:VEVENT
BEGIN:VTIMEZONE
TZID:UTC
BEGIN:STANDARD
DTSTART:20221130T160000
TZNAME:UTC
TZOFFSETTO:+0000
TZOFFSETFROM:+0000
END:STANDARD
END:VTIMEZONE
END:VCALENDAR
