BEGIN:VCALENDAR
PRODID:-//eluceo/ical//2.0/EN
VERSION:2.0
CALSCALE:GREGORIAN
BEGIN:VEVENT
UID:event-338
DTSTAMP:20260422T104810Z
SUMMARY:Vateten: Wok & Poké Bowl
DESCRIPTION:Nog geen zin om na Breek de Week naar huis te gaan? Hard aan he
 t studeren tot in de late uurtjes in het onderwijscentrum? Behoefte aan w
 at gezelligheid? Eet en relax mee voor een schappelijk prijsje in 't Vat! 
 Deze week: Wok en Poké Bowl van Eazie!
DTSTART:20220928T160000Z
DTEND:20220928T180000Z
END:VEVENT
BEGIN:VTIMEZONE
TZID:UTC
BEGIN:STANDARD
DTSTART:20220928T160000
TZNAME:UTC
TZOFFSETTO:+0000
TZOFFSETFROM:+0000
END:STANDARD
END:VTIMEZONE
END:VCALENDAR
