BEGIN:VCALENDAR
PRODID:-//eluceo/ical//2.0/EN
VERSION:2.0
CALSCALE:GREGORIAN
BEGIN:VEVENT
UID:event-1001
DTSTAMP:20260425T142744Z
SUMMARY:Gidsenweekend inventarisatie
DESCRIPTION:Lieve allemaal\, Lijkt het je leuk om dit jaar gids te zijn? Me
 ld je dan aan via het Tactile platform. Sollicitatiedata: 26 mei 14:15-15:
 15 en 15:45-16:45 10 juni 15:30-16:30 23 juni 15:30-16:30 2 juli 15:30-16:
 30 8 juli 15:30-16:30 Houd er rekening mee dat je beschikbaar moet zijn ti
 jdens de volledige Eurekaweek van 17 tot en met 19 augustus 2026. Naast de
  week zelf organiseren we ook het Gidsenweekend voor de gidsen van 14 tot 
 en met 16 augustus 2026. Dit weekend is de start van alles: je leert je me
 degidsen kennen\, bouwt alvast een band op en gaat goed voorbereid de week
  in! Mocht je mee willen op het Gidsenweekend\, kan je aanmelden voor de i
 nteresselijst via de MFVR-site. Wil je een rol spelen in de start van iema
 nds studententijd en zelf een van de leukste weken van het jaar meemaken? 
 Meld je dan aan als gids en dan zien we je graag bij de sollicitaties! Lie
 fs\, De Facultaire Introductie Commissie ’25-26’
DTSTART:20260423T220000Z
DTEND:20260507T220000Z
END:VEVENT
BEGIN:VTIMEZONE
TZID:UTC
BEGIN:STANDARD
DTSTART:20260423T220000
TZNAME:UTC
TZOFFSETTO:+0000
TZOFFSETFROM:+0000
END:STANDARD
END:VTIMEZONE
END:VCALENDAR
