BEGIN:VCALENDAR
PRODID:-//eluceo/ical//2.0/EN
VERSION:2.0
CALSCALE:GREGORIAN
BEGIN:VEVENT
UID:event-1000
DTSTAMP:20260419T181837Z
SUMMARY:Vateten: Pizza
DESCRIPTION:Kom naar de Barcoborrel en eet daarvoor gezellig mee! Deze we
 ek: Pizza! Inschrijven kan tot 16.30 uur.
DTSTART:20260415T160000Z
DTEND:20260415T170000Z
LOCATION:'t Vat
END:VEVENT
BEGIN:VTIMEZONE
TZID:UTC
BEGIN:STANDARD
DTSTART:20260415T160000
TZNAME:UTC
TZOFFSETTO:+0000
TZOFFSETFROM:+0000
END:STANDARD
END:VTIMEZONE
END:VCALENDAR
